BEGIN:VCALENDAR
VERSION:2.0
PRODID:-//Mission Dolores Neighborhood Association - ECPv5.16.3.1//NONSGML v1.0//EN
CALSCALE:GREGORIAN
METHOD:PUBLISH
X-WR-CALNAME:Mission Dolores Neighborhood Association
X-ORIGINAL-URL:https://missiondna.org
X-WR-CALDESC:Events for Mission Dolores Neighborhood Association
BEGIN:VTIMEZONE
TZID:America/Los_Angeles
BEGIN:DAYLIGHT
TZOFFSETFROM:-0800
TZOFFSETTO:-0700
TZNAME:PDT
DTSTART:20180311T100000
END:DAYLIGHT
BEGIN:STANDARD
TZOFFSETFROM:-0700
TZOFFSETTO:-0800
TZNAME:PST
DTSTART:20181104T090000
END:STANDARD
END:VTIMEZONE
BEGIN:VEVENT
DTSTART;TZID=America/Los_Angeles:20180411T183000
DTEND;TZID=America/Los_Angeles:20180411T203000
DTSTAMP:20260423T132548
CREATED:20171216T154636Z
LAST-MODIFIED:20180407T153938Z
UID:2624-1523471400-1523478600@missiondna.org
SUMMARY:April 2018 MDNA Board meeting
DESCRIPTION:Minutes (Jeff) 5 minutes\nValencia Bikeway Improvements\, Kimberly Leung\, SFMTA\, special guest. More information about this project is available at sfmta.com/valencia. (20-25 minutes)\nMAP2020 Update: Claudia Flores\, SF City Planner and special guest. (25-30 minutes)\nSupervisor Sheehy\, special guest. 20-30 minutes\nSB 827: Discussion (15-20 minutes)\nIncorporating MDNA (Alex) 10-15 minutes\nArts Calendar Update (Alex) 5-10 minutes\nAdjournment
URL:https://missiondna.org/event/april-2018-mdna-board-meeting/
LOCATION:65 Dorland St\, Room 304/306\, 65 Dorland\, Room 406\, San Francisco\, CA\, 94114\, United States
END:VEVENT
END:VCALENDAR