BEGIN:VCALENDAR
VERSION:2.0
PRODID:-//Mission Dolores Neighborhood Association - ECPv5.16.3.1//NONSGML v1.0//EN
CALSCALE:GREGORIAN
METHOD:PUBLISH
X-WR-CALNAME:Mission Dolores Neighborhood Association
X-ORIGINAL-URL:https://missiondna.org
X-WR-CALDESC:Events for Mission Dolores Neighborhood Association
BEGIN:VTIMEZONE
TZID:America/Los_Angeles
BEGIN:DAYLIGHT
TZOFFSETFROM:-0800
TZOFFSETTO:-0700
TZNAME:PDT
DTSTART:20170312T100000
END:DAYLIGHT
BEGIN:STANDARD
TZOFFSETFROM:-0700
TZOFFSETTO:-0800
TZNAME:PST
DTSTART:20171105T090000
END:STANDARD
END:VTIMEZONE
BEGIN:VEVENT
DTSTART;TZID=America/Los_Angeles:20170518T090000
DTEND;TZID=America/Los_Angeles:20170518T103000
DTSTAMP:20260423T145628
CREATED:20170426T120443Z
LAST-MODIFIED:20170426T120443Z
UID:2420-1495098000-1495103400@missiondna.org
SUMMARY:Budget Policy Meeting on Community Policing
DESCRIPTION:You are cordially invited to attend a budget policy meeting on community policing hosted by the Mayor on Thursday\, May 18 at 9:00 a.m. in the clubhouse at Boeddeker Park located at 246 Eddy Street. Please see the attached invitation letter for further details. \nPlease RSVP no later than Monday\, May 8.
URL:https://missiondna.org/event/budget-policy-meeting-community-policing/
LOCATION:246 Eddy Street\,  in the clubhouse at Boeddeker Park\, San Francisco\, CA\, United States
ORGANIZER;CN="Melissa%20Whitehouse":MAILTO:melissa.whitehouse@sfgov.org
END:VEVENT
END:VCALENDAR