BEGIN:VCALENDAR
VERSION:2.0
PRODID:-//Mission Dolores Neighborhood Association - ECPv5.16.3.1//NONSGML v1.0//EN
CALSCALE:GREGORIAN
METHOD:PUBLISH
X-WR-CALNAME:Mission Dolores Neighborhood Association
X-ORIGINAL-URL:https://missiondna.org
X-WR-CALDESC:Events for Mission Dolores Neighborhood Association
BEGIN:VTIMEZONE
TZID:America/Los_Angeles
BEGIN:DAYLIGHT
TZOFFSETFROM:-0800
TZOFFSETTO:-0700
TZNAME:PDT
DTSTART:20180311T100000
END:DAYLIGHT
BEGIN:STANDARD
TZOFFSETFROM:-0700
TZOFFSETTO:-0800
TZNAME:PST
DTSTART:20181104T090000
END:STANDARD
END:VTIMEZONE
BEGIN:VEVENT
DTSTART;TZID=America/Los_Angeles:20180213T180000
DTEND;TZID=America/Los_Angeles:20180213T230000
DTSTAMP:20260423T133620
CREATED:20180212T204407Z
LAST-MODIFIED:20180212T204407Z
UID:2677-1518544800-1518562800@missiondna.org
SUMMARY:Carnival in the Mission
DESCRIPTION:CARNAVAL SAN FRANCISCO \n40th Anniversary \nMARDI GRAS FAT TUESDAY PARTY!\n \n21 VENUES in the MiSSiON District \n \nTuesday\, February 13\, 2018 ~ 6:00 PM\n \nLink: http://bit.ly/2EavITR (Facebook event page)\n\nYou can start at: Cha Cha Cha\, 2327 Mission St\, San Francisco\, CA 94110\nMeet friends\, family\, and neighbors in the heart of San Francisco’s Latino Cultural District to enjoy live samba\, salsa\, soca cumbia\, rumba drummers & dancers !\nEveryone invited to wear costumes\, masks and beads in celebration of the holiday.\n\nA percentage of sales in all venues will go to support Carnaval San Francisco!\nDonations are welcome and can be made on our site or on the the day of the event: http://www.carnavalsanfrancisco.org/donate\nClick on the link for the 21 participating venues and start planning your party route! http://bit.ly/2AuprQo
URL:https://missiondna.org/event/carnival-in-the-mission/
LOCATION:various venues in the Mission\, San Francisco\, CA\, United States
END:VEVENT
END:VCALENDAR