BEGIN:VCALENDAR
VERSION:2.0
PRODID:-//Mission Dolores Neighborhood Association - ECPv5.16.3.1//NONSGML v1.0//EN
CALSCALE:GREGORIAN
METHOD:PUBLISH
X-WR-CALNAME:Mission Dolores Neighborhood Association
X-ORIGINAL-URL:https://missiondna.org
X-WR-CALDESC:Events for Mission Dolores Neighborhood Association
BEGIN:VTIMEZONE
TZID:America/Los_Angeles
BEGIN:DAYLIGHT
TZOFFSETFROM:-0800
TZOFFSETTO:-0700
TZNAME:PDT
DTSTART:20170312T100000
END:DAYLIGHT
BEGIN:STANDARD
TZOFFSETFROM:-0700
TZOFFSETTO:-0800
TZNAME:PST
DTSTART:20171105T090000
END:STANDARD
END:VTIMEZONE
BEGIN:VEVENT
DTSTART;TZID=America/Los_Angeles:20171104T120000
DTEND;TZID=America/Los_Angeles:20171104T160000
DTSTAMP:20260423T134316
CREATED:20171019T225331Z
LAST-MODIFIED:20171019T225633Z
UID:2538-1509796800-1509811200@missiondna.org
SUMMARY:A Day Without Glass in Dolores Park
DESCRIPTION:On Saturday\, November 4 starting at noon there will be a ”Day without Glass in the Park”.  We will be at the entrance 19th and Dolores Street\, with the “Love Dolores” campaign.   Can you join us for an hour or two?  Please let us know\, so we have a strong presence. \nWe are beginning to see significant successes from our activities. Police and Park Ranger presence has increased\, trash pickups have improved\, and Rec and Park is installing security cameras. \nIf we want to see continued improvement in our park\, we need your help. We need a visible neighborhood presence in the park. \nAlso attached is a flyer you can print and post on billboards\, give to your neighbors\, or put up in the neighborhood café. \nThank you for being a Dolores Park Ambassador!   Please let me know your availability. \nHans Kolbe\, Robert Brust\, Don Bruce \nDolores Park Ambassadors
URL:https://missiondna.org/event/day-without-glass-dolores-park/
ATTACH;FMTTYPE=image/jpeg:https://missiondna.org/wp-content/uploads/2017/10/Dolores-Park.jpg
ORGANIZER;CN="Robert%20Brust":MAILTO:rkbrust@gmail.com
END:VEVENT
END:VCALENDAR