BEGIN:VCALENDAR
VERSION:2.0
PRODID:-//Mission Dolores Neighborhood Association - ECPv5.16.3.1//NONSGML v1.0//EN
CALSCALE:GREGORIAN
METHOD:PUBLISH
X-WR-CALNAME:Mission Dolores Neighborhood Association
X-ORIGINAL-URL:https://missiondna.org
X-WR-CALDESC:Events for Mission Dolores Neighborhood Association
BEGIN:VTIMEZONE
TZID:America/Los_Angeles
BEGIN:DAYLIGHT
TZOFFSETFROM:-0800
TZOFFSETTO:-0700
TZNAME:PDT
DTSTART:20180311T100000
END:DAYLIGHT
BEGIN:STANDARD
TZOFFSETFROM:-0700
TZOFFSETTO:-0800
TZNAME:PST
DTSTART:20181104T090000
END:STANDARD
END:VTIMEZONE
BEGIN:VEVENT
DTSTART;TZID=America/Los_Angeles:20180613T100000
DTEND;TZID=America/Los_Angeles:20180613T160000
DTSTAMP:20260423T121357
CREATED:20180613T023828Z
LAST-MODIFIED:20180613T023828Z
UID:2713-1528884000-1528905600@missiondna.org
SUMMARY:EARTHQUAKE SAFETY FAIR
DESCRIPTION:WHAT:         On June 13\, the Department of Building Inspection hosts its\n\nannual 2018 Earthquake Safety Fair from 10am to 4pm at the Bill Graham Civic Auditorium\, 99 Grove Street\, San Francisco 94102.\nFair kickoff at 10:30am with remarks from City leaders on the importance of earthquake preparedness.\n\n \nThis event features an exhibitor hall of contractors\, design professionals\, community and government partners; four informative workshops focusing on Emergency Preparation\, home remodeling\, Additional Dwelling Unit and Unit Legalization programs\,  and the Accessible Business Entrance program. Mini/Hands-On emergency training sessions also occur every 20 minutes. A Quake Cottage will be available at the entrance to Bill Graham for attendees to experience a simulated 8.0 earthquake. \n               \nOver 85 exhibitors ranging from contractors\, design professionals\, financial institutions\, government agencies and community partners will be available to answer property owner questions on building\, earthquake and fire safety. For more information about the Fair and to register to attend\, please visit www.sfdbi.org/earthquakefair.\n \nWHO:          Former Mayor Willie L. Brown\nBoard of Supervisor Members – Aaron Peskin\, Ahsha Safai\, Catherine Stefani\nCity Administrator Naomi Kelly\nFire Chief Joanne Hayes-White\nPolice Chief William Scott\n            \nWHEN:        Wednesday\, June 13\, 2018\nEvent kick off: 10:30am\nFair: 10am – 4pm\n \nWHERE:     Bill Graham Civic Auditorium\, 99 Grove Street\nSan Francisco\, CA 94102\nMEDIA CONTACTS:\nLily Madjus Wu\, DBI: (415) 537-0345 (cell)\, lily.madjus@sfgov.org\nWilliam Strawn\, DBI: (415) 850-9816 (cell)\, william.strawn@sfgov.org\n\n\n \n###\n\nAbout the Department of Building Inspection (DBI)\nThe Department of Building Inspection (DBI) oversees the effective\, efficient\, fair and safe enforcement of the City and County of San Francisco’s building\, housing\, plumbing\, electrical\, mechanical\, and disability access codes for San Francisco’s more than 200\,000 buildings. Please visit www.sfdbi.org for more information.
URL:https://missiondna.org/event/earthquake-safety-fair/
LOCATION:Bill Graham Civic Auditorium\, 99 Grove Street\, San Francisco\, CA\, 94102\, United States
END:VEVENT
END:VCALENDAR