BEGIN:VCALENDAR
VERSION:2.0
PRODID:-//Mission Dolores Neighborhood Association - ECPv5.16.3.1//NONSGML v1.0//EN
CALSCALE:GREGORIAN
METHOD:PUBLISH
X-WR-CALNAME:Mission Dolores Neighborhood Association
X-ORIGINAL-URL:https://missiondna.org
X-WR-CALDESC:Events for Mission Dolores Neighborhood Association
BEGIN:VTIMEZONE
TZID:America/Los_Angeles
BEGIN:DAYLIGHT
TZOFFSETFROM:-0800
TZOFFSETTO:-0700
TZNAME:PDT
DTSTART:20170312T100000
END:DAYLIGHT
BEGIN:STANDARD
TZOFFSETFROM:-0700
TZOFFSETTO:-0800
TZNAME:PST
DTSTART:20171105T090000
END:STANDARD
END:VTIMEZONE
BEGIN:VEVENT
DTSTART;TZID=America/Los_Angeles:20170809T183000
DTEND;TZID=America/Los_Angeles:20170809T200000
DTSTAMP:20260423T150313
CREATED:20170808T121423Z
LAST-MODIFIED:20170809T120454Z
UID:2480-1502303400-1502308800@missiondna.org
SUMMARY:Emergency Board mtg with police captain Jeff Griffin
DESCRIPTION:
URL:https://missiondna.org/event/emergency-board-mtg-supervisor-sheehy/
LOCATION:65 Dorland Street\, room 407\, San Francisco\, CA\, 94114\, United States
END:VEVENT
END:VCALENDAR