BEGIN:VCALENDAR
VERSION:2.0
PRODID:-//Mission Dolores Neighborhood Association - ECPv5.16.3.1//NONSGML v1.0//EN
CALSCALE:GREGORIAN
METHOD:PUBLISH
X-WR-CALNAME:Mission Dolores Neighborhood Association
X-ORIGINAL-URL:https://missiondna.org
X-WR-CALDESC:Events for Mission Dolores Neighborhood Association
BEGIN:VTIMEZONE
TZID:America/Los_Angeles
BEGIN:DAYLIGHT
TZOFFSETFROM:-0800
TZOFFSETTO:-0700
TZNAME:PDT
DTSTART:20180311T100000
END:DAYLIGHT
BEGIN:STANDARD
TZOFFSETFROM:-0700
TZOFFSETTO:-0800
TZNAME:PST
DTSTART:20181104T090000
END:STANDARD
END:VTIMEZONE
BEGIN:VEVENT
DTSTART;TZID=America/Los_Angeles:20180213T183000
DTEND;TZID=America/Los_Angeles:20180213T203000
DTSTAMP:20260423T133155
CREATED:20171216T154502Z
LAST-MODIFIED:20180209T184117Z
UID:2619-1518546600-1518553800@missiondna.org
SUMMARY:February 2018 MDNA Board meeting
DESCRIPTION:  \n\nMinutes (Jeff) 5 minutes\n235 Valencia Project\, Craig Hamburg\, DDG\, project sponsor: 20-30 minutes\nVacancies on Church & Market\, Justine Shoemaker\, Asset Manager\, Veritas Investments: 10-20 minutes\nThe Brew Coop\, Gore Song\, project sponsor: 15-20 minutes\nFig & Thistle Market\, Angel Davis\, special guest: 20 minutes\n52 Landers Street\, vote to extend letter of support to include backyard variance.5-10 minutes\nMDNA web site cost and funding (Jeff)10-15 minutes\nAdjournment
URL:https://missiondna.org/event/february-2018-mdna-board-meeting/
LOCATION:65 Dorland St\, Room 304/306\, 65 Dorland\, Room 406\, San Francisco\, CA\, 94114\, United States
END:VEVENT
END:VCALENDAR