BEGIN:VCALENDAR
VERSION:2.0
PRODID:-//Mission Dolores Neighborhood Association - ECPv5.16.3.1//NONSGML v1.0//EN
CALSCALE:GREGORIAN
METHOD:PUBLISH
X-WR-CALNAME:Mission Dolores Neighborhood Association
X-ORIGINAL-URL:https://missiondna.org
X-WR-CALDESC:Events for Mission Dolores Neighborhood Association
BEGIN:VTIMEZONE
TZID:America/Los_Angeles
BEGIN:DAYLIGHT
TZOFFSETFROM:-0800
TZOFFSETTO:-0700
TZNAME:PDT
DTSTART:20170312T100000
END:DAYLIGHT
BEGIN:STANDARD
TZOFFSETFROM:-0700
TZOFFSETTO:-0800
TZNAME:PST
DTSTART:20171105T090000
END:STANDARD
END:VTIMEZONE
BEGIN:VEVENT
DTSTART;TZID=America/Los_Angeles:20170208T183000
DTEND;TZID=America/Los_Angeles:20170208T203000
DTSTAMP:20260423T162919
CREATED:20170105T070631Z
LAST-MODIFIED:20170203T235555Z
UID:2276-1486578600-1486585800@missiondna.org
SUMMARY:February MDNA Board Meeting
DESCRIPTION:Minutes (Jeff) 5 minutes\n2070 Folsom: Vote and discussion on whether to write letter of support or opposition (Peter \, Lucia and Donna) 10-15 minutes\n3620 Cesar Chavez\, David Sternberg\, AIA (Lucia) 25 minutes\n198 Valencia Street\, David Sternberg\, AIA (Lucia) 25 minutes  \n235 Valencia\, DDG Partners – 235 Valencia LLC \, Craig Hambrecht\, principal: Proposed Demolition of Historic Garage that housed Hap Jones Indian Motorcycles (built in 1924). Project Sponsor will meet with us later.  (Peter will report on preliminary discussion.) 10 minutes\nPolicy Review on MDNA’s Future Scope of Activities (Peter and Donna) 15 minutes\nHistoric District Nomination Update (Peter) 5-10 minutes\nAdjournment
URL:https://missiondna.org/event/february-mdna-board-meeting/
LOCATION:65 Dorland St\, Room 304/306\, 65 Dorland\, Room 406\, San Francisco\, CA\, 94114\, United States
END:VEVENT
END:VCALENDAR