BEGIN:VCALENDAR
VERSION:2.0
PRODID:-//Mission Dolores Neighborhood Association - ECPv5.16.3.1//NONSGML v1.0//EN
CALSCALE:GREGORIAN
METHOD:PUBLISH
X-WR-CALNAME:Mission Dolores Neighborhood Association
X-ORIGINAL-URL:https://missiondna.org
X-WR-CALDESC:Events for Mission Dolores Neighborhood Association
BEGIN:VTIMEZONE
TZID:America/Los_Angeles
BEGIN:DAYLIGHT
TZOFFSETFROM:-0800
TZOFFSETTO:-0700
TZNAME:PDT
DTSTART:20170312T100000
END:DAYLIGHT
BEGIN:STANDARD
TZOFFSETFROM:-0700
TZOFFSETTO:-0800
TZNAME:PST
DTSTART:20171105T090000
END:STANDARD
END:VTIMEZONE
BEGIN:VEVENT
DTSTART;TZID=America/Los_Angeles:20170419T123000
DTEND;TZID=America/Los_Angeles:20170419T153000
DTSTAMP:20260423T163335
CREATED:20170403T001142Z
LAST-MODIFIED:20170403T001645Z
UID:2371-1492605000-1492615800@missiondna.org
SUMMARY:Historic Preservation Commission (HPC) hearing on 2117-2123 Market Street
DESCRIPTION:On April 19\, 2017\, the Historic Preservation Commission (HPC) will consider its recommendation to the Board of Supervisors regarding the proposed designation of 2117-2123 Market Street (historically known as New Era Hall) as a City landmark. \nThe HPC added 2117-2123 Market Street to its Landmark Designation Work Program on June 15\, 2011\, and initiated the local landmark designation process pursuant to Article 10 of the Planning Code on December 7\, 2016 with Resolution No. 836. Under Article 10\, initiation and recommendation are two distinct steps of the landmarking process which require separate hearings. \n The HPC has scheduled the second public hearing regarding the local landmark designation on Wednesday\, April 19\, 2017 at 12:30 p.m. in City Hall\, 1 Dr. Carlton B. Goodlett Place (formerly Polk Street)\, Room 400. Again\, the purpose of this hearing is for the HPC to consider its recommendation to the Board of Supervisors on the proposed designation of 2117-2123 Market Street as a City landmark. The full agenda and supporting documents for this item will be posted to the HPC website no later than Thursday April 13\, 2017 and can be found here: http://sf-planning.org/meetings/18. \nSee links below for further information relevant to the HPC Notice of Hearing\, the Department’s Landmark Designation Case Report from December 7\, 2017\, the Landmark Designation Report\, as well as a copy of Resolution No. 836. \n2011-1124l-nomination-initiation-case-report neh-landmark-designation-report-20170330 r-836-new-era-hall \nneh-landmark-designation-report-20170330 \n2011-1124l-nomination-initiation-case-report
URL:https://missiondna.org/event/historic-preservation-commission-hpc-hearing-2117-2123-market-street/
LOCATION:City Hall\, Room 400
ATTACH;FMTTYPE=image/jpeg:https://missiondna.org/wp-content/uploads/2017/04/2117-2123-Market-Street.jpg
ORGANIZER;CN="Historic%20Preservation%20Commission":MAILTO:desiree.smith@sfgov.org
END:VEVENT
END:VCALENDAR