BEGIN:VCALENDAR
VERSION:2.0
PRODID:-//Mission Dolores Neighborhood Association - ECPv5.16.3.1//NONSGML v1.0//EN
CALSCALE:GREGORIAN
METHOD:PUBLISH
X-WR-CALNAME:Mission Dolores Neighborhood Association
X-ORIGINAL-URL:https://missiondna.org
X-WR-CALDESC:Events for Mission Dolores Neighborhood Association
BEGIN:VTIMEZONE
TZID:America/Los_Angeles
BEGIN:DAYLIGHT
TZOFFSETFROM:-0800
TZOFFSETTO:-0700
TZNAME:PDT
DTSTART:20220313T100000
END:DAYLIGHT
BEGIN:STANDARD
TZOFFSETFROM:-0700
TZOFFSETTO:-0800
TZNAME:PST
DTSTART:20221106T090000
END:STANDARD
END:VTIMEZONE
BEGIN:VEVENT
DTSTART;TZID=America/Los_Angeles:20220720T123000
DTEND;TZID=America/Los_Angeles:20220720T170000
DTSTAMP:20260423T093324
CREATED:20220720T151518Z
LAST-MODIFIED:20220720T153649Z
UID:2944-1658320200-1658336400@missiondna.org
SUMMARY:HPC Meeting for Mission Dolores Survey
DESCRIPTION:Mission Dolores Survey- MDNA Letter of Support\nAdoption Resolution 1-19-11\nHPC Resolution No. 0056
URL:https://missiondna.org/event/hpc-meeting-for-mission-dolores-survey-wednesday-july-20-2022-at-1230pm-in-room-400-city-hall/
LOCATION:City Hall\, Room 400
END:VEVENT
END:VCALENDAR