BEGIN:VCALENDAR
VERSION:2.0
PRODID:-//Mission Dolores Neighborhood Association - ECPv5.16.3.1//NONSGML v1.0//EN
CALSCALE:GREGORIAN
METHOD:PUBLISH
X-WR-CALNAME:Mission Dolores Neighborhood Association
X-ORIGINAL-URL:https://missiondna.org
X-WR-CALDESC:Events for Mission Dolores Neighborhood Association
BEGIN:VTIMEZONE
TZID:America/Los_Angeles
BEGIN:DAYLIGHT
TZOFFSETFROM:-0800
TZOFFSETTO:-0700
TZNAME:PDT
DTSTART:20180311T100000
END:DAYLIGHT
BEGIN:STANDARD
TZOFFSETFROM:-0700
TZOFFSETTO:-0800
TZNAME:PST
DTSTART:20181104T090000
END:STANDARD
END:VTIMEZONE
BEGIN:VEVENT
DTSTART;TZID=America/Los_Angeles:20180908T090000
DTEND;TZID=America/Los_Angeles:20180908T120000
DTSTAMP:20260423T104918
CREATED:20180812T043020Z
LAST-MODIFIED:20180812T043020Z
UID:2730-1536397200-1536408000@missiondna.org
SUMMARY:LOVE OUR CITY
DESCRIPTION:San Francisco needs you! \nJoin your neighbors on Saturday September 8\, 9 am – noon\, as we get swept up with civic pride and all do our part to keep our city clean. The ask is simple: LOVE OUR CITY! Grab a broom and dustpan\, sweep the sidewalk in front of your home or business and pick up litter in your neighborhood. \nTogether\, we can make a meaningful\, positive impact. \nIf you don’t have the tools you need to get the job done\, Public Works does! You can get supplies the morning of September 8 during a LOVE OUR CITY event at a neighborhood kickoff location near you. Let us know you’re part of the team by registering on the sfgiantsweep.org website or by calling 415-641-2600. \nSan Francisco is one of the most beautiful cities in the world and it takes teamwork to keep it looking good. On September 8\, we’ll make a community-wide push to improve our neighborhoods – with a goal of keeping the momentum going. Every day.
URL:https://missiondna.org/event/love-our-city/
LOCATION:your home or business
END:VEVENT
END:VCALENDAR