BEGIN:VCALENDAR
VERSION:2.0
PRODID:-//Mission Dolores Neighborhood Association - ECPv5.16.3.1//NONSGML v1.0//EN
CALSCALE:GREGORIAN
METHOD:PUBLISH
X-WR-CALNAME:Mission Dolores Neighborhood Association
X-ORIGINAL-URL:https://missiondna.org
X-WR-CALDESC:Events for Mission Dolores Neighborhood Association
BEGIN:VTIMEZONE
TZID:America/Los_Angeles
BEGIN:DAYLIGHT
TZOFFSETFROM:-0800
TZOFFSETTO:-0700
TZNAME:PDT
DTSTART:20210314T100000
END:DAYLIGHT
BEGIN:STANDARD
TZOFFSETFROM:-0700
TZOFFSETTO:-0800
TZNAME:PST
DTSTART:20211107T090000
END:STANDARD
END:VTIMEZONE
BEGIN:VEVENT
DTSTART;TZID=America/Los_Angeles:20210908T183000
DTEND;TZID=America/Los_Angeles:20210908T183000
DTSTAMP:20260423T092054
CREATED:20210618T180406Z
LAST-MODIFIED:20210618T180406Z
UID:2908-1631125800-1631125800@missiondna.org
SUMMARY:MDNA Meeting
DESCRIPTION:
URL:https://missiondna.org/event/mdna-meeting/
LOCATION:65 Dorland Street\, room 407\, San Francisco\, CA\, 94114\, United States
END:VEVENT
END:VCALENDAR