BEGIN:VCALENDAR
VERSION:2.0
PRODID:-//Mission Dolores Neighborhood Association - ECPv5.16.3.1//NONSGML v1.0//EN
CALSCALE:GREGORIAN
METHOD:PUBLISH
X-WR-CALNAME:Mission Dolores Neighborhood Association
X-ORIGINAL-URL:https://missiondna.org
X-WR-CALDESC:Events for Mission Dolores Neighborhood Association
BEGIN:VTIMEZONE
TZID:America/Los_Angeles
BEGIN:DAYLIGHT
TZOFFSETFROM:-0800
TZOFFSETTO:-0700
TZNAME:PDT
DTSTART:20170312T100000
END:DAYLIGHT
BEGIN:STANDARD
TZOFFSETFROM:-0700
TZOFFSETTO:-0800
TZNAME:PST
DTSTART:20171105T090000
END:STANDARD
END:VTIMEZONE
BEGIN:VEVENT
DTSTART;TZID=America/Los_Angeles:20170430T140000
DTEND;TZID=America/Los_Angeles:20170430T160000
DTSTAMP:20260423T174412
CREATED:20170427T034351Z
LAST-MODIFIED:20170427T034351Z
UID:2426-1493560800-1493568000@missiondna.org
SUMMARY:Muni Art 2018 Kickoff
DESCRIPTION:Join us April 30th to receive details on Muni Art 2018 applications. Have questions about how to enter or about how you can be a 2018 Muni artist? Come to this fun and informative event to pick up your application and meet the 2017 Muni artists!
URL:https://missiondna.org/event/muni-art-2018-kickoff/
LOCATION:Flax Art & Design\, Fort Mason Center\, 2 Marina Blvd\, Bldg D\, san francisco\, 94123\, United States
ORGANIZER;CN="Darcy%20Brown":MAILTO:info@sfbeautiful.org
END:VEVENT
END:VCALENDAR