BEGIN:VCALENDAR
VERSION:2.0
PRODID:-//Mission Dolores Neighborhood Association - ECPv5.16.3.1//NONSGML v1.0//EN
CALSCALE:GREGORIAN
METHOD:PUBLISH
X-WR-CALNAME:Mission Dolores Neighborhood Association
X-ORIGINAL-URL:https://missiondna.org
X-WR-CALDESC:Events for Mission Dolores Neighborhood Association
BEGIN:VTIMEZONE
TZID:America/Los_Angeles
BEGIN:DAYLIGHT
TZOFFSETFROM:-0800
TZOFFSETTO:-0700
TZNAME:PDT
DTSTART:20170312T100000
END:DAYLIGHT
BEGIN:STANDARD
TZOFFSETFROM:-0700
TZOFFSETTO:-0800
TZNAME:PST
DTSTART:20171105T090000
END:STANDARD
END:VTIMEZONE
BEGIN:VEVENT
DTSTART;TZID=America/Los_Angeles:20171108T183000
DTEND;TZID=America/Los_Angeles:20171108T203000
DTSTAMP:20260423T134256
CREATED:20170425T040353Z
LAST-MODIFIED:20170425T040353Z
UID:2410-1510165800-1510173000@missiondna.org
SUMMARY:November 2017 MDNA Board Meeting
DESCRIPTION:Agenda TBD
URL:https://missiondna.org/event/november-2017-mdna-board-meeting/
LOCATION:65 Dorland St\, Room 304/306\, 65 Dorland\, Room 406\, San Francisco\, CA\, 94114\, United States
END:VEVENT
END:VCALENDAR