BEGIN:VCALENDAR
VERSION:2.0
PRODID:-//Mission Dolores Neighborhood Association - ECPv5.16.3.1//NONSGML v1.0//EN
CALSCALE:GREGORIAN
METHOD:PUBLISH
X-WR-CALNAME:Mission Dolores Neighborhood Association
X-ORIGINAL-URL:https://missiondna.org
X-WR-CALDESC:Events for Mission Dolores Neighborhood Association
BEGIN:VTIMEZONE
TZID:UTC
BEGIN:STANDARD
TZOFFSETFROM:+0000
TZOFFSETTO:+0000
TZNAME:UTC
DTSTART:20160101T000000
END:STANDARD
END:VTIMEZONE
BEGIN:VEVENT
DTSTART;TZID=UTC:20160914T183000
DTEND;TZID=UTC:20160914T203000
DTSTAMP:20260423T163027
CREATED:20160911T221220Z
LAST-MODIFIED:20160911T221220Z
UID:1721-1473877800-1473885000@missiondna.org
SUMMARY:September 2016 MDNA Board Meeting
DESCRIPTION:MDNA Board Meeting Agenda: Wednesday\, 9-14-16\, 6:30 PM \n65 Dorland (off Dolores) Room 409 \n1. Minutes (Jeff) 5 minutes \n2. 2060 Folsom Project: Anne Torney\, Partner\, Mithun/Solomon and Elaine Yee\, Senior Project Manager\, Community Real Estate\, Mission Economic Development Agency (MEDA) (Donna) 30-45 minutes \n3. 1296 Shotwell Project:  Susie Coliver\, Principal\, Herman Coliver Locus Architecture\, and Elaine Yee\, MEDA (Donna) 30-45 minutes \n4.   647 Valencia Project (Elbo Room): Kerman Morris Architects\, Toby Morris (Peter) 30-45 minutes \n5.  Housing Not Tents – Prop Q: (Mark Farrell’s proposal to help with the homeless problem) (Fact Sheet Attached) Carly Burns (Peter) 5-10 minutes \n6.  Historic Nomination update (Peter) 10 minutes \n7.  Adjournment \nAll times are approximate. \nThank you. \nPeter Lewis\, President
URL:https://missiondna.org/event/september-2016-mdna-board-meeting/
LOCATION:65 Dorland St\, Room 304/306\, 65 Dorland\, Room 406\, San Francisco\, CA\, 94114\, United States
END:VEVENT
END:VCALENDAR