BEGIN:VCALENDAR
VERSION:2.0
PRODID:-//Mission Dolores Neighborhood Association - ECPv5.16.3.1//NONSGML v1.0//EN
CALSCALE:GREGORIAN
METHOD:PUBLISH
X-WR-CALNAME:Mission Dolores Neighborhood Association
X-ORIGINAL-URL:https://missiondna.org
X-WR-CALDESC:Events for Mission Dolores Neighborhood Association
BEGIN:VTIMEZONE
TZID:UTC
BEGIN:STANDARD
TZOFFSETFROM:+0000
TZOFFSETTO:+0000
TZNAME:UTC
DTSTART:20160101T000000
END:STANDARD
END:VTIMEZONE
BEGIN:VEVENT
DTSTART;TZID=UTC:20160816T130000
DTEND;TZID=UTC:20160816T130000
DTSTAMP:20260423T175455
CREATED:20160715T142202Z
LAST-MODIFIED:20160719T131519Z
UID:1218-1471352400-1471352400@missiondna.org
SUMMARY:SFMTA to decide fate of median parking on Dolores & Guerrero
DESCRIPTION:This is your opportunity to testify before the SFMTA Board of Directors regarding median parking on Guerrero and Dolores Streets. If you wish to have your position—pro or con—considered by the Directors prior to the meeting on August 16\, you may write the Board at MTABoard@SFMTA.com
URL:https://missiondna.org/event/sfmta-to-decide-about-median-parking-on-dolores-guerrero/
LOCATION:City Hall\, Room 400
END:VEVENT
END:VCALENDAR