BEGIN:VCALENDAR
VERSION:2.0
PRODID:-//Mission Dolores Neighborhood Association - ECPv5.16.3.1//NONSGML v1.0//EN
CALSCALE:GREGORIAN
METHOD:PUBLISH
X-WR-CALNAME:Mission Dolores Neighborhood Association
X-ORIGINAL-URL:https://missiondna.org
X-WR-CALDESC:Events for Mission Dolores Neighborhood Association
BEGIN:VTIMEZONE
TZID:America/Los_Angeles
BEGIN:DAYLIGHT
TZOFFSETFROM:-0800
TZOFFSETTO:-0700
TZNAME:PDT
DTSTART:20170312T100000
END:DAYLIGHT
BEGIN:STANDARD
TZOFFSETFROM:-0700
TZOFFSETTO:-0800
TZNAME:PST
DTSTART:20171105T090000
END:STANDARD
END:VTIMEZONE
BEGIN:VEVENT
DTSTART;TZID=America/Los_Angeles:20170426T180000
DTEND;TZID=America/Los_Angeles:20170426T200000
DTSTAMP:20260423T163039
CREATED:20170411T034131Z
LAST-MODIFIED:20170411T034432Z
UID:2389-1493229600-1493236800@missiondna.org
SUMMARY:St. Luke's Hospital Community Meeting
DESCRIPTION:We would like to invite you to the St. Luke’s Campus Community meeting for a construction update and the plan for the medical office building. \nJoin us to learn more about the construction of the St. Luke’s Campus Replacement Hospital including 2017 milestones and plan for the medical office building. The update will include information on the demolition of the 1957 Building and 1970 Patient Tower. \nTo RSVP for the meeting\, please call 415-373-4775 or email stlproject@cpmc2020.0rg \n 
URL:https://missiondna.org/event/st-lukes-hospital-community-meeting/
LOCATION:St. Luke’s Campus\, 555 San Jose Ave - Hartzell Building\, San Francisco\, CA\, 94110\, United States
ATTACH;FMTTYPE=image/jpeg:https://missiondna.org/wp-content/uploads/2017/04/St-Lukes.jpg
END:VEVENT
END:VCALENDAR