BEGIN:VCALENDAR
VERSION:2.0
PRODID:-//Mission Dolores Neighborhood Association - ECPv5.16.3.1//NONSGML v1.0//EN
CALSCALE:GREGORIAN
METHOD:PUBLISH
X-WR-CALNAME:Mission Dolores Neighborhood Association
X-ORIGINAL-URL:https://missiondna.org
X-WR-CALDESC:Events for Mission Dolores Neighborhood Association
BEGIN:VTIMEZONE
TZID:America/Los_Angeles
BEGIN:DAYLIGHT
TZOFFSETFROM:-0800
TZOFFSETTO:-0700
TZNAME:PDT
DTSTART:20190310T100000
END:DAYLIGHT
BEGIN:STANDARD
TZOFFSETFROM:-0700
TZOFFSETTO:-0800
TZNAME:PST
DTSTART:20191103T090000
END:STANDARD
END:VTIMEZONE
BEGIN:VEVENT
DTSTART;TZID=America/Los_Angeles:20190410T183000
DTEND;TZID=America/Los_Angeles:20190410T200000
DTSTAMP:20260423T105157
CREATED:20190306T073442Z
LAST-MODIFIED:20190306T073442Z
UID:2816-1554921000-1554926400@missiondna.org
SUMMARY:Upcoming MDNA Board Meeting – Wednesday\, April 10\, 2019
DESCRIPTION:This meeting will be held on Wednesday\, April 10\, 2019 at 6:30 pm. It will likely take place in room 406 at 65 Dorland St. Check here for updates\, in case the room changes.
URL:https://missiondna.org/event/upcoming-mdna-board-meeting-wednesday-april-10-2019/
LOCATION:65 Dorland St\, Room 304/306\, 65 Dorland\, Room 406\, San Francisco\, CA\, 94114\, United States
END:VEVENT
END:VCALENDAR