BEGIN:VCALENDAR
VERSION:2.0
PRODID:-//Mission Dolores Neighborhood Association - ECPv5.16.3.1//NONSGML v1.0//EN
CALSCALE:GREGORIAN
METHOD:PUBLISH
X-WR-CALNAME:Mission Dolores Neighborhood Association
X-ORIGINAL-URL:https://missiondna.org
X-WR-CALDESC:Events for Mission Dolores Neighborhood Association
BEGIN:VTIMEZONE
TZID:America/Los_Angeles
BEGIN:DAYLIGHT
TZOFFSETFROM:-0800
TZOFFSETTO:-0700
TZNAME:PDT
DTSTART:20180311T100000
END:DAYLIGHT
BEGIN:STANDARD
TZOFFSETFROM:-0700
TZOFFSETTO:-0800
TZNAME:PST
DTSTART:20181104T090000
END:STANDARD
END:VTIMEZONE
BEGIN:VEVENT
DTSTART;TZID=America/Los_Angeles:20180728T160000
DTEND;TZID=America/Los_Angeles:20180728T180000
DTSTAMP:20260423T121653
CREATED:20180701T031756Z
LAST-MODIFIED:20180701T031756Z
UID:2723-1532793600-1532800800@missiondna.org
SUMMARY:Valencia Street Bikeway Improvement Workshop
DESCRIPTION:Valencia Street is a vibrant commercial corridor with a diverse set of restaurants\, shops\, bars and services. Valencia also serves as a major north-south bike route for those who live\, work\, visit and travel through the neighborhood. As the street has become more popular\, the city has heard increasing community concern about traffic safety and congestion. Ride-hailing services and commercial vehicles are frequently double-parking in the bike lane\, posing safety concerns for all who travel on Valencia Street. \nThe SFMTA will work with the community to assess and recommend safety improvements for Valencia Street between Market and Mission streets. The Valencia Bikeway Improvements project will identify opportunities to upgrade the existing bike lanes given the high volume of cyclists on Valencia Street\, history of bicycle-motor vehicle crashes\, and evidence suggesting that illegal parking and loading within the bike lane is prevalent. The public engagement process will include outreach to local businesses\, public meetings\, workshops and other forums for community input. \nThe planning process will result in: \n\nProposed designs to upgrade the existing bike lanes\nAn evaluation of enforcement and curb management needs\nTraffic flow and safety recommendations\n\nFollowing the planning process\, the SFMTA will prioritize near-and-long term safety improvements for implementation.
URL:https://missiondna.org/event/valencia-street-bikeway-improvement-workshop/
LOCATION:The Women’s Building\, 3543 18th Street\, San Francisco\, CA\, 94110\, United States
ORGANIZER;CN="Jennifer%20Molina":MAILTO:Jennifer.Molina@sfmta.com
END:VEVENT
END:VCALENDAR